BEGIN:VCALENDAR
PRODID: -//CFLIB.ORG//iCalUS()//EN
VERSION:2.0
METHOD:REQUEST
BEGIN:VTIMEZONE
BEGIN:STANDARD
DTSTART:20061101T020000
RRULE:FREQ=YEARLY;INTERVAL=1;BYDAY=1SU;BYMONTH=11
TZOFFSETFROM:-0400
TZOFFSETTO:-0500
TZNAME:Standard Time
END:STANDARD
BEGIN:DAYLIGHT
DTSTART:20060301T020000
RRULE:FREQ=YEARLY;INTERVAL=1;BYDAY=2SU;BYMONTH=3
TZOFFSETFROM:-0500
TZOFFSETTO:-0400
TZNAME:Daylight Savings Time
END:DAYLIGHT
END:VTIMEZONE
BEGIN:VEVENT
UID:1551295298482.CFLIB.ORG
ORGANIZER;CN=:MAILTO:
DTSTAMP:20190228T062138
DTSTART;TZID=Eastern Time:20190302T134500
DTEND;TZID=Eastern Time:20190302T141500
SUMMARY:PLACE WEST - TIM DOUGLAS - OFI/OPEN HOME - 21a Woodstock Ave, TARINGA, 4068
LOCATION:21a Woodstock Ave, TARINGA, 4068
DESCRIPTION:OFI/OPEN HOME - 21a Woodstock Ave, TARINGA, 4068\n\nSaturday 1:45PM-2:15PM\n\nClick the link for full listing information: http://timdouglas.com.au?/property/3333403
PRIORITY:1
TRANSP:OPAQUE
CLASS:PUBLIC
BEGIN:VALARM
TRIGGER:-PT30M
ACTION:DISPLAY
DESCRIPTION:Reminder
END:VALARM
END:VEVENT
END:VCALENDAR 