BEGIN:VCALENDAR
PRODID: -//CFLIB.ORG//iCalUS()//EN
VERSION:2.0
METHOD:REQUEST
BEGIN:VTIMEZONE
BEGIN:STANDARD
DTSTART:20061101T020000
RRULE:FREQ=YEARLY;INTERVAL=1;BYDAY=1SU;BYMONTH=11
TZOFFSETFROM:-0400
TZOFFSETTO:-0500
TZNAME:Standard Time
END:STANDARD
BEGIN:DAYLIGHT
DTSTART:20060301T020000
RRULE:FREQ=YEARLY;INTERVAL=1;BYDAY=2SU;BYMONTH=3
TZOFFSETFROM:-0500
TZOFFSETTO:-0400
TZNAME:Daylight Savings Time
END:DAYLIGHT
END:VTIMEZONE
BEGIN:VEVENT
UID:1551295384841.CFLIB.ORG
ORGANIZER;CN=:MAILTO:
DTSTAMP:20190228T062304
DTSTART;TZID=Eastern Time:20190302T104500
DTEND;TZID=Eastern Time:20190302T111500
SUMMARY:PLACE WEST - TIM DOUGLAS - OFI/OPEN HOME - 12 Stafford Street, PADDINGTON, 4064
LOCATION:12 Stafford Street, PADDINGTON, 4064
DESCRIPTION:OFI/OPEN HOME - 12 Stafford Street, PADDINGTON, 4064\n\nSaturday 10:45AM-11:15AM\n\nClick the link for full listing information: http://timdouglas.com.au?/property/3320161
PRIORITY:1
TRANSP:OPAQUE
CLASS:PUBLIC
BEGIN:VALARM
TRIGGER:-PT30M
ACTION:DISPLAY
DESCRIPTION:Reminder
END:VALARM
END:VEVENT
END:VCALENDAR 